BEGIN:VCALENDAR
METHOD:PUBLISH
X-WR-TIMEZONE:America/Denver
PRODID:-//Hold My Ticket.//HMT Web App//EN
CALSCALE:GREGORIAN
METHOD:PUBLISH
X-WR-CALNAME:The Oriental Theater
X-WR-CALDESC:Upcoming events at The Oriental Theater
BEGIN:VTIMEZONE
TZID:America/Denver 
END:VTIMEZONE
BEGIN:VEVENT
SEQUENCE:2
TRANSP:OPAQUE
UID:4eefc9546a7211bb88e8bed3262e905b
DTSTART:20210405T190000
DTSTAMP:20210405T140109Z
SUMMARY:Denver's Unique Week Of Fashion
DESCRIPTION:
CREATED:20210405T140109Z
URL;VALUE=URI:http://holdmyticket.com/event/370735 

DTEND:20210405T210000
END:VEVENT
END:VCALENDAR