BEGIN:VCALENDAR
METHOD:PUBLISH
X-WR-TIMEZONE:America/Denver
PRODID:-//Hold My Ticket.//HMT Web App//EN
CALSCALE:GREGORIAN
METHOD:PUBLISH
X-WR-CALNAME:The Oriental Theater
X-WR-CALDESC:Upcoming events at The Oriental Theater
BEGIN:VTIMEZONE
TZID:America/Denver 
END:VTIMEZONE
BEGIN:VEVENT
SEQUENCE:2
TRANSP:OPAQUE
UID:3119d5534d5f7e70cd4e80684a735cc1
DTSTART:20210506T203000
DTSTAMP:20210506T160204Z
SUMMARY:HUNTER JAMES &amp; THE TITANIC and HEAVY DIAMOND RING
DESCRIPTION:
CREATED:20210506T160204Z
URL;VALUE=URI:http://holdmyticket.com/event/371254 

DTEND:20210506T230000
END:VEVENT
END:VCALENDAR