BEGIN:VCALENDAR
METHOD:PUBLISH
X-WR-TIMEZONE:America/Denver
PRODID:-//Hold My Ticket.//HMT Web App//EN
CALSCALE:GREGORIAN
METHOD:PUBLISH
X-WR-CALNAME:The Oriental Theater
X-WR-CALDESC:Upcoming events at The Oriental Theater
BEGIN:VTIMEZONE
TZID:America/Denver 
END:VTIMEZONE
BEGIN:VEVENT
SEQUENCE:2
TRANSP:OPAQUE
UID:c5284519b9dad29356d34211e05ea005
DTSTART:20210520T193000
DTSTAMP:20210520T150143Z
SUMMARY:Kyle Moon &amp; The Misled 
DESCRIPTION:
CREATED:20210520T150143Z
URL;VALUE=URI:http://holdmyticket.com/event/372140 

DTEND:20210520T223000
END:VEVENT
END:VCALENDAR