BEGIN:VCALENDAR
METHOD:PUBLISH
X-WR-TIMEZONE:America/Denver
PRODID:-//Hold My Ticket.//HMT Web App//EN
CALSCALE:GREGORIAN
METHOD:PUBLISH
X-WR-CALNAME:The Oriental Theater
X-WR-CALDESC:Upcoming events at The Oriental Theater
BEGIN:VTIMEZONE
TZID:America/Denver 
END:VTIMEZONE
BEGIN:VEVENT
SEQUENCE:2
TRANSP:OPAQUE
UID:64014936b9d74f2fc08a6864dc1a9e23
DTSTART:20210604T203000
DTSTAMP:20210604T160108Z
SUMMARY:O'CONNOR BROTHERS BAND
DESCRIPTION:
CREATED:20210604T160108Z
URL;VALUE=URI:http://holdmyticket.com/event/372284 

DTEND:20210604T233000
END:VEVENT
END:VCALENDAR