BEGIN:VCALENDAR
METHOD:PUBLISH
X-WR-TIMEZONE:America/Denver
PRODID:-//Hold My Ticket.//HMT Web App//EN
CALSCALE:GREGORIAN
METHOD:PUBLISH
X-WR-CALNAME:Through the Flower Art Space
X-WR-CALDESC:Upcoming events at Through the Flower Art Space
BEGIN:VTIMEZONE
TZID:America/Denver 
END:VTIMEZONE
BEGIN:VEVENT
SEQUENCE:2
TRANSP:OPAQUE
UID:04d91a05706c387477a01de174079a91
DTSTART:20210717T180000
DTSTAMP:20210717T145204Z
SUMMARY:Diamonds in the Sky 
DESCRIPTION:Judy Chicago, Donald Woodman, and their long-time collaborators, Pyro Spectaculars, will present "Diamonds in the Sky," a new, site-specific Smoke Sculpture™ at Through the Flower Art Space located at 107 Becker Ave, Belen, NM on Saturday, July 17th at dusk. Tickets to see the Smoke Sculpture™ are mandatory.   

In addition to this performance, from 12 - 8 pm on Saturday and Sunday, multiple businesses along Becker Avenue in Belen, NM will host art exhibitions, gallery tours, wine tastings, and other special events as part of a celebration and revitalization of the Belen Arts District as it begins to re-open with the relaxation of COVID restrictions. 
CREATED:20210717T145204Z
URL;VALUE=URI:http://holdmyticket.com/event/373107 

DTEND:20210717T203000
END:VEVENT
END:VCALENDAR