BEGIN:VCALENDAR
METHOD:PUBLISH
X-WR-TIMEZONE:America/Denver
PRODID:-//Hold My Ticket.//HMT Web App//EN
CALSCALE:GREGORIAN
METHOD:PUBLISH
X-WR-CALNAME:Sunshine Theater
X-WR-CALDESC:Upcoming events at Sunshine Theater
BEGIN:VTIMEZONE
TZID:America/Denver 
END:VTIMEZONE
BEGIN:VEVENT
SEQUENCE:2
TRANSP:OPAQUE
UID:850964729f01b7d769e49336b323fffc
DTSTART:20220622T200000
DTSTAMP:20220622T222425Z
SUMMARY:Circle Jerks 
DESCRIPTION:* Circle Jerks * Adolescents * Negative Approach *

Wednesday, June 22, 2022
Doors 7pm | Show 8pm 
Sunshine Theater
ABQ NM
all ages
Advance tickets - $30 + service charge
CREATED:20220622T222425Z
URL;VALUE=URI:http://holdmyticket.com/event/373303 

DTEND:20220622T230000
END:VEVENT
END:VCALENDAR