BEGIN:VCALENDAR
METHOD:PUBLISH
X-WR-TIMEZONE:America/Denver
PRODID:-//Hold My Ticket.//HMT Web App//EN
CALSCALE:GREGORIAN
METHOD:PUBLISH
X-WR-CALNAME:Casa Flamenca (Outside)
X-WR-CALDESC:Upcoming events at Casa Flamenca (Outside)
BEGIN:VTIMEZONE
TZID:America/Denver 
END:VTIMEZONE
BEGIN:VEVENT
SEQUENCE:2
TRANSP:OPAQUE
UID:922b9f668b67b6ba204a3641400e1734
DTSTART:20210612T193000
DTSTAMP:20210612T150143Z
SUMMARY:Chill House Band with Hillary Smith 
DESCRIPTION:The members of the Chill House Band bring years of experience performing professionally in New Mexico and Texas. The band provides an outstanding musical experience, including popular dance music, smooth/contemporary jazz, soul, R&amp;B, and Blues.
CREATED:20210612T150143Z
URL;VALUE=URI:http://holdmyticket.com/event/373381 

DTEND:20210612T210000
END:VEVENT
END:VCALENDAR