BEGIN:VCALENDAR
METHOD:PUBLISH
X-WR-TIMEZONE:America/Denver
PRODID:-//Hold My Ticket.//HMT Web App//EN
CALSCALE:GREGORIAN
METHOD:PUBLISH
X-WR-CALNAME:Railyard Park
X-WR-CALDESC:Upcoming events at Railyard Park
BEGIN:VTIMEZONE
TZID:America/Denver 
END:VTIMEZONE
BEGIN:VEVENT
SEQUENCE:2
TRANSP:OPAQUE
UID:808408e6a4efa9a4e73bbb2c3c68858a
DTSTART:20210611T200000
DTSTAMP:20210611T150152Z
SUMMARY:Bill and Ted Face the Music
DESCRIPTION:The stakes are higher than ever for the time-traveling exploits of William "Bill" S. Preston, Esq. (Alex Winter) and Theodore "Ted" Logan (Keanu Reeves). Yet to fulfill their rock and roll destiny, the now middle-aged best friends set out on a new adventure when a visitor from the future warns them that only their song can save life as we know it. Along the way, they will be helped by their daughters, a new batch of historical figures, and a few music legends -- to seek the song that will set their world right and bring harmony in the universe.
CREATED:20210611T150152Z
URL;VALUE=URI:http://holdmyticket.com/event/373499 

DTEND:20210611T220000
END:VEVENT
END:VCALENDAR