BEGIN:VCALENDAR
METHOD:PUBLISH
X-WR-TIMEZONE:America/Denver
PRODID:-//Hold My Ticket.//HMT Web App//EN
CALSCALE:GREGORIAN
METHOD:PUBLISH
X-WR-CALNAME:The Oriental Theater
X-WR-CALDESC:Upcoming events at The Oriental Theater
BEGIN:VTIMEZONE
TZID:America/Denver 
END:VTIMEZONE
BEGIN:VEVENT
SEQUENCE:2
TRANSP:OPAQUE
UID:c2bf308b8155b739e38fcc8268225bda
DTSTART:20210828T200000
DTSTAMP:20210828T150127Z
SUMMARY:READ SOUTHALL BAND
DESCRIPTION:
CREATED:20210828T150127Z
URL;VALUE=URI:http://holdmyticket.com/event/373533 

DTEND:20210828T230000
END:VEVENT
END:VCALENDAR