BEGIN:VCALENDAR
METHOD:PUBLISH
X-WR-TIMEZONE:America/Denver
PRODID:-//Hold My Ticket.//HMT Web App//EN
CALSCALE:GREGORIAN
METHOD:PUBLISH
X-WR-CALNAME:The Oriental Theater
X-WR-CALDESC:Upcoming events at The Oriental Theater
BEGIN:VTIMEZONE
TZID:America/Denver 
END:VTIMEZONE
BEGIN:VEVENT
SEQUENCE:2
TRANSP:OPAQUE
UID:20ed250fcd304f78a3b2f94a77097241
DTSTART:20210610T200000
DTSTAMP:20210610T150119Z
SUMMARY:A-Mac &amp; The Height (A-Mac's Dirty 30 Birthday)
DESCRIPTION:
CREATED:20210610T150119Z
URL;VALUE=URI:http://holdmyticket.com/event/374067 

DTEND:20210610T233000
END:VEVENT
END:VCALENDAR