BEGIN:VCALENDAR
METHOD:PUBLISH
X-WR-TIMEZONE:America/Denver
PRODID:-//Hold My Ticket.//HMT Web App//EN
CALSCALE:GREGORIAN
METHOD:PUBLISH
X-WR-CALNAME:Casa Flamenca (Outside)
X-WR-CALDESC:Upcoming events at Casa Flamenca (Outside)
BEGIN:VTIMEZONE
TZID:America/Denver 
END:VTIMEZONE
BEGIN:VEVENT
SEQUENCE:2
TRANSP:OPAQUE
UID:7a918c4e8d3da4dc53f51f778c963a63
DTSTART:20210717T193000
DTSTAMP:20210717T150201Z
SUMMARY:Chill House Band with Hillary Smith 
DESCRIPTION:From the Island of San Fernando (Cádiz, Spain) a place known as the cradle of late Flamenco vocalist Camarón de la Isla, Juani de la Isla has accompanied renowned flamenco singers such as José Mercé, Chato de la Isla and Juan Villar, among others. He has composed music for the flamenco dance company of Cristina Hoyos.
CREATED:20210717T150201Z
URL;VALUE=URI:http://holdmyticket.com/event/374555 

DTEND:20210717T210000
END:VEVENT
END:VCALENDAR