BEGIN:VCALENDAR
METHOD:PUBLISH
X-WR-TIMEZONE:America/Denver
PRODID:-//Hold My Ticket.//HMT Web App//EN
CALSCALE:GREGORIAN
METHOD:PUBLISH
X-WR-CALNAME:Sunshine Theater
X-WR-CALDESC:Upcoming events at Sunshine Theater
BEGIN:VTIMEZONE
TZID:America/Denver 
END:VTIMEZONE
BEGIN:VEVENT
SEQUENCE:2
TRANSP:OPAQUE
UID:73d54b8178d7bf1075557ba0d10f4d4d
DTSTART:20220128T200000
DTSTAMP:20220128T230746Z
SUMMARY:Bad Suns 
DESCRIPTION:* Bad Suns * Kid Bloom * Little Image *

Friday, January 28, 2022
Sunshine Theater
ABQ NM
all ages 
Advance tickets - $22 + service charge
CREATED:20220128T230746Z
URL;VALUE=URI:http://holdmyticket.com/event/374640 

DTEND:20220128T203000
END:VEVENT
END:VCALENDAR