BEGIN:VCALENDAR
METHOD:PUBLISH
X-WR-TIMEZONE:America/Denver
PRODID:-//Hold My Ticket.//HMT Web App//EN
CALSCALE:GREGORIAN
METHOD:PUBLISH
X-WR-CALNAME:Sunshine Theater
X-WR-CALDESC:Upcoming events at Sunshine Theater
BEGIN:VTIMEZONE
TZID:America/Denver 
END:VTIMEZONE
BEGIN:VEVENT
SEQUENCE:2
TRANSP:OPAQUE
UID:b2d55a2d1515a5b5cd468b7956f913db
DTSTART:20211214T200000
DTSTAMP:20211214T160112Z
SUMMARY:Yngwie Malmsteen - Parabellum Tour
DESCRIPTION:Yngwie Malmsteen 

Tuesday, December 14, 2021
Doors 7pm | Show 8pm 
Sunshine Theater
ABQ NM
21 +
Advance tickets - $30 + service charge


CREATED:20211214T160112Z
URL;VALUE=URI:http://holdmyticket.com/event/375224 

DTEND:20211214T230000
END:VEVENT
END:VCALENDAR