BEGIN:VCALENDAR
METHOD:PUBLISH
X-WR-TIMEZONE:America/Denver
PRODID:-//Hold My Ticket.//HMT Web App//EN
CALSCALE:GREGORIAN
METHOD:PUBLISH
X-WR-CALNAME:The Bridge Patio (Outside at Santa Fe Brewing Company)
X-WR-CALDESC:Upcoming events at The Bridge Patio (Outside at Santa Fe Brewing Company)
BEGIN:VTIMEZONE
TZID:America/Denver 
END:VTIMEZONE
BEGIN:VEVENT
SEQUENCE:2
TRANSP:OPAQUE
UID:2cfaaa91b9b5506cee9a08b63af27b85
DTSTART:20210927T193000
DTSTAMP:20210927T194845Z
SUMMARY:Shakey Graves Was Here
DESCRIPTION:The prehistory of Shakey Graves exists in two overstuffed folders. Inside them, artifacts document an immense era of anonymous DIY creativity, from 2007 through 2010--the three years before Roll The Bones came out and changed his life. There are stencils, lyrics, drawings, prototypes for concert posters, and even a zine. The latter, which Graves--aka Alejandro Rose-Garcia--wrote and illustrated, tells the tale of a once-courageous, now retired mouse who must journey to the moon to save his sweetheart. At the time, he envisioned the photocopied storybook as a potential vessel for releasing his music.
CREATED:20210927T194845Z
URL;VALUE=URI:http://holdmyticket.com/event/375284 

DTEND:20210927T220000
END:VEVENT
END:VCALENDAR