BEGIN:VCALENDAR
METHOD:PUBLISH
X-WR-TIMEZONE:America/Denver
PRODID:-//Hold My Ticket.//HMT Web App//EN
CALSCALE:GREGORIAN
METHOD:PUBLISH
X-WR-CALNAME:Rockhouse Bar & Grill 
X-WR-CALDESC:Upcoming events at Rockhouse Bar & Grill 
BEGIN:VTIMEZONE
TZID:America/Denver 
END:VTIMEZONE
BEGIN:VEVENT
SEQUENCE:2
TRANSP:OPAQUE
UID:67a446c0ef8ce392b7d7c2af3ad33551
DTSTART:20211110T190000
DTSTAMP:20211110T150159Z
SUMMARY:TEEN AGE BOTTLE ROCKET 
DESCRIPTION:
CREATED:20211110T150159Z
URL;VALUE=URI:http://holdmyticket.com/event/375330 

DTEND:20211110T234500
END:VEVENT
END:VCALENDAR