BEGIN:VCALENDAR
METHOD:PUBLISH
X-WR-TIMEZONE:America/Denver
PRODID:-//Hold My Ticket.//HMT Web App//EN
CALSCALE:GREGORIAN
METHOD:PUBLISH
X-WR-CALNAME:Santa Fe Plaza
X-WR-CALDESC:Upcoming events at Santa Fe Plaza
BEGIN:VTIMEZONE
TZID:America/Denver 
END:VTIMEZONE
BEGIN:VEVENT
SEQUENCE:2
TRANSP:OPAQUE
UID:026ec1edab3ce53fb418a3c4aa5221ad
DTSTART:20210802T180000
DTSTAMP:20210802T130152Z
SUMMARY:Detroit Lightning / Moby Dick
DESCRIPTION:Detroit Lightning gives the audience a genuine Grateful Dead experience while presenting familiar tunes in a fresh way, unique to these four talented musicians and their diverse backgrounds. Moby Dick has a simple goal: to do justice to some of the most influential, challenging and generally kick ass songs in the history of hard rock... In short, to pay tribute to the legacy of the World's Greatest Rock Band, Led Zeppelin.
CREATED:20210802T130152Z
URL;VALUE=URI:http://holdmyticket.com/event/375675 

DTEND:20210802T210000
END:VEVENT
END:VCALENDAR