BEGIN:VCALENDAR
METHOD:PUBLISH
X-WR-TIMEZONE:America/Denver
PRODID:-//Hold My Ticket.//HMT Web App//EN
CALSCALE:GREGORIAN
METHOD:PUBLISH
X-WR-CALNAME:Santa Fe Plaza
X-WR-CALDESC:Upcoming events at Santa Fe Plaza
BEGIN:VTIMEZONE
TZID:America/Denver 
END:VTIMEZONE
BEGIN:VEVENT
SEQUENCE:2
TRANSP:OPAQUE
UID:3ba6c4f9b3b2c6c64b75eaa563035e06
DTSTART:20210810T180000
DTSTAMP:20210810T130124Z
SUMMARY:Devon Gilfillian   
DESCRIPTION:Growing up in Philadelphia on a steady diet of R&amp;B, hip-hop, rock, blues, and soul music, Devon Gilfillian gravitated to records that ignited his mind while making his body move. For him, listening to the towering icons of his musician father's era--Ray Charles, Stevie Wonder, Otis Redding, The Temptations--was just as formative and exciting as discovering the new sounds of his own generation, and the beats and rhymes made by rising rap stars like Wu-Tang Clan, Kanye West, Notorious B.I.G., and Jay-Z inspired him in new ways.
CREATED:20210810T130124Z
URL;VALUE=URI:http://holdmyticket.com/event/375678 

DTEND:20210810T210000
END:VEVENT
END:VCALENDAR