BEGIN:VCALENDAR
METHOD:PUBLISH
X-WR-TIMEZONE:America/Denver
PRODID:-//Hold My Ticket.//HMT Web App//EN
CALSCALE:GREGORIAN
METHOD:PUBLISH
X-WR-CALNAME:Sunshine Theater
X-WR-CALDESC:Upcoming events at Sunshine Theater
BEGIN:VTIMEZONE
TZID:America/Denver 
END:VTIMEZONE
BEGIN:VEVENT
SEQUENCE:2
TRANSP:OPAQUE
UID:f0a252993d2aaf4f64218dc011e728c5
DTSTART:20220521T200000
DTSTAMP:20220521T220716Z
SUMMARY:The Halluci Nation (fka A Tribe Called Red) * Def - I * Macchiato Music
DESCRIPTION:* The Halluci Nation (fka A Tribe Called Red) * Def - I * Macchiato Music * 

Ssturday, May 21, 2022
Doors 7pm | Show 8pm
Sunshine Theater
Albuquerque, NM
All Ages
$20 + Service Fees

ALL FEBRUARY 6 TICKETS WILL BE HONORED!


CREATED:20220521T220716Z
URL;VALUE=URI:http://holdmyticket.com/event/376322 

DTEND:20220521T233000
END:VEVENT
END:VCALENDAR