BEGIN:VCALENDAR
METHOD:PUBLISH
X-WR-TIMEZONE:America/Denver
PRODID:-//Hold My Ticket.//HMT Web App//EN
CALSCALE:GREGORIAN
METHOD:PUBLISH
X-WR-CALNAME:Sunshine Theater
X-WR-CALDESC:Upcoming events at Sunshine Theater
BEGIN:VTIMEZONE
TZID:America/Denver 
END:VTIMEZONE
BEGIN:VEVENT
SEQUENCE:2
TRANSP:OPAQUE
UID:6449fb5fcb2206a07a99ad226ed2de42
DTSTART:20220423T183000
DTSTAMP:20220423T203757Z
SUMMARY:All That Remains Fall of Ideals 15th Anniversary
DESCRIPTION:* All That Remains * Miss May I * Varials * Tallah *
Fall of Ideals 15th Anniversary Tour

Saturday, April 23, 2022
Sunshine Theater
ABQ NM
all ages 
Advance tickets - $27 + service charge
CREATED:20220423T203757Z
URL;VALUE=URI:http://holdmyticket.com/event/377204 

DTEND:20220423T233000
END:VEVENT
END:VCALENDAR