BEGIN:VCALENDAR
METHOD:PUBLISH
X-WR-TIMEZONE:America/Denver
PRODID:-//Hold My Ticket.//HMT Web App//EN
CALSCALE:GREGORIAN
METHOD:PUBLISH
X-WR-CALNAME:Moonlight Lounge
X-WR-CALDESC:Upcoming events at Moonlight Lounge
BEGIN:VTIMEZONE
TZID:America/Denver 
END:VTIMEZONE
BEGIN:VEVENT
SEQUENCE:2
TRANSP:OPAQUE
UID:78091cb9b87240d5a4105340a16ecda3
DTSTART:20220117T200000
DTSTAMP:20220117T193204Z
SUMMARY:An Evening with Marbin
DESCRIPTION:
CREATED:20220117T193204Z
URL;VALUE=URI:http://holdmyticket.com/event/377386 

DTEND:20220117T230000
END:VEVENT
END:VCALENDAR