BEGIN:VCALENDAR
METHOD:PUBLISH
X-WR-TIMEZONE:America/Denver
PRODID:-//Hold My Ticket.//HMT Web App//EN
CALSCALE:GREGORIAN
METHOD:PUBLISH
X-WR-CALNAME:HQ
X-WR-CALDESC:Upcoming events at HQ
BEGIN:VTIMEZONE
TZID:America/Denver 
END:VTIMEZONE
BEGIN:VEVENT
SEQUENCE:2
TRANSP:OPAQUE
UID:025787ad4967fb897802a83d918ed4cd
DTSTART:20210808T210000
DTSTAMP:20210808T160140Z
SUMMARY:Spiderland
DESCRIPTION:
CREATED:20210808T160140Z
URL;VALUE=URI:http://holdmyticket.com/event/377511 

DTEND:20210809T013000
END:VEVENT
END:VCALENDAR