BEGIN:VCALENDAR
METHOD:PUBLISH
X-WR-TIMEZONE:America/Denver
PRODID:-//Hold My Ticket.//HMT Web App//EN
CALSCALE:GREGORIAN
METHOD:PUBLISH
X-WR-CALNAME:The Oriental Theater
X-WR-CALDESC:Upcoming events at The Oriental Theater
BEGIN:VTIMEZONE
TZID:America/Denver 
END:VTIMEZONE
BEGIN:VEVENT
SEQUENCE:2
TRANSP:OPAQUE
UID:df43f9c6a21abe86d66b7014b091edf3
DTSTART:20210909T190000
DTSTAMP:20210913T063551Z
SUMMARY:Dan Savage's 2021 HUMP! Film Festival
DESCRIPTION:
CREATED:20210913T063551Z
URL;VALUE=URI:http://holdmyticket.com/event/377623 

DTEND:20210909T224500
END:VEVENT
END:VCALENDAR