BEGIN:VCALENDAR
METHOD:PUBLISH
X-WR-TIMEZONE:America/Denver
PRODID:-//Hold My Ticket.//HMT Web App//EN
CALSCALE:GREGORIAN
METHOD:PUBLISH
X-WR-CALNAME:Moonlight Lounge
X-WR-CALDESC:Upcoming events at Moonlight Lounge
BEGIN:VTIMEZONE
TZID:America/Denver 
END:VTIMEZONE
BEGIN:VEVENT
SEQUENCE:2
TRANSP:OPAQUE
UID:850e12734eab60a6c21f0f639004dddf
DTSTART:20211210T210000
DTSTAMP:20211210T170143Z
SUMMARY:Ugly * deathCave * Ruiner * Gulag Radio
DESCRIPTION:
CREATED:20211210T170143Z
URL;VALUE=URI:http://holdmyticket.com/event/377984 

DTEND:20211211T000000
END:VEVENT
END:VCALENDAR