BEGIN:VCALENDAR
METHOD:PUBLISH
X-WR-TIMEZONE:America/Denver
PRODID:-//Hold My Ticket.//HMT Web App//EN
CALSCALE:GREGORIAN
METHOD:PUBLISH
X-WR-CALNAME:The Oriental Theater
X-WR-CALDESC:Upcoming events at The Oriental Theater
BEGIN:VTIMEZONE
TZID:America/Denver 
END:VTIMEZONE
BEGIN:VEVENT
SEQUENCE:2
TRANSP:OPAQUE
UID:fbccd6ee3f17554e963c3e595119d546
DTSTART:20230605T200000
DTSTAMP:20230605T150107Z
SUMMARY:Clan Of Xymox
DESCRIPTION:
CREATED:20230605T150107Z
URL;VALUE=URI:http://holdmyticket.com/event/378066 

DTEND:20230605T230000
END:VEVENT
END:VCALENDAR