BEGIN:VCALENDAR
METHOD:PUBLISH
X-WR-TIMEZONE:America/Denver
PRODID:-//Hold My Ticket.//HMT Web App//EN
CALSCALE:GREGORIAN
METHOD:PUBLISH
X-WR-CALNAME:FUSION | 708
X-WR-CALDESC:Upcoming events at FUSION | 708
BEGIN:VTIMEZONE
TZID:America/Denver 
END:VTIMEZONE
BEGIN:VEVENT
SEQUENCE:2
TRANSP:OPAQUE
UID:d9f4c0a678bb0ce95682f85bb1fed5fa
DTSTART:20211012T193000
DTSTAMP:20211012T150150Z
SUMMARY:The Quebe Sisters
DESCRIPTION:Grace, Sophia, and Hulda Quebe front an innovative Progressive Western Swing band of archtop guitar, upright bass, fiddles and sibling harmony. The Dallas-based five-piece presents a unique Americana blend of Western Swing, Jazz-influenced Swing, Country, Texas-Style Fiddling, and Western music.
CREATED:20211012T150150Z
URL;VALUE=URI:http://holdmyticket.com/event/378421 

DTEND:20211012T213000
END:VEVENT
END:VCALENDAR