BEGIN:VCALENDAR
METHOD:PUBLISH
X-WR-TIMEZONE:America/Denver
PRODID:-//Hold My Ticket.//HMT Web App//EN
CALSCALE:GREGORIAN
METHOD:PUBLISH
X-WR-CALNAME:The Oriental Theater
X-WR-CALDESC:Upcoming events at The Oriental Theater
BEGIN:VTIMEZONE
TZID:America/Denver 
END:VTIMEZONE
BEGIN:VEVENT
SEQUENCE:2
TRANSP:OPAQUE
UID:e66a9a282e5df49705a86d960fae7369
DTSTART:20211022T220000
DTSTAMP:20211022T170150Z
SUMMARY:Emo Night Brooklyn
DESCRIPTION:
CREATED:20211022T170150Z
URL;VALUE=URI:http://holdmyticket.com/event/379085 

DTEND:20211023T013000
END:VEVENT
END:VCALENDAR