BEGIN:VCALENDAR
METHOD:PUBLISH
X-WR-TIMEZONE:America/Los_Angeles
PRODID:-//Hold My Ticket.//HMT Web App//EN
CALSCALE:GREGORIAN
METHOD:PUBLISH
X-WR-CALNAME:Star Theater
X-WR-CALDESC:Upcoming events at Star Theater
BEGIN:VTIMEZONE
TZID:America/Los_Angeles 
END:VTIMEZONE
BEGIN:VEVENT
SEQUENCE:2
TRANSP:OPAQUE
UID:5c162717c948f570f08863b88c360d81
DTSTART:20211210T200000
DTSTAMP:20211210T160143Z
SUMMARY:OFF WITH THEIR HEADS,
DESCRIPTION:21+ / $16 ADV - $18 DOS / 8PM
CREATED:20211210T160143Z
URL;VALUE=URI:http://holdmyticket.com/event/379652 

DTEND:20211211T234500
END:VEVENT
END:VCALENDAR