BEGIN:VCALENDAR
METHOD:PUBLISH
X-WR-TIMEZONE:America/Denver
PRODID:-//Hold My Ticket.//HMT Web App//EN
CALSCALE:GREGORIAN
METHOD:PUBLISH
X-WR-CALNAME:The Oriental Theater
X-WR-CALDESC:Upcoming events at The Oriental Theater
BEGIN:VTIMEZONE
TZID:America/Denver 
END:VTIMEZONE
BEGIN:VEVENT
SEQUENCE:2
TRANSP:OPAQUE
UID:21f9d0b9af1380eef7c890843aa02029
DTSTART:20210903T190000
DTSTAMP:20210903T140146Z
SUMMARY:ZEPP-11 (honoring the legacy of Led Zeppelin) 
DESCRIPTION:
CREATED:20210903T140146Z
URL;VALUE=URI:http://holdmyticket.com/event/379674 

DTEND:20210903T224500
END:VEVENT
END:VCALENDAR