BEGIN:VCALENDAR
METHOD:PUBLISH
X-WR-TIMEZONE:America/Chicago
PRODID:-//Hold My Ticket.//HMT Web App//EN
CALSCALE:GREGORIAN
METHOD:PUBLISH
X-WR-CALNAME:USA Stadium 
X-WR-CALDESC:Upcoming events at USA Stadium 
BEGIN:VTIMEZONE
TZID:America/Chicago 
END:VTIMEZONE
BEGIN:VEVENT
SEQUENCE:2
TRANSP:OPAQUE
UID:7f5525f2a2c6c17d469791123bc1a2f3
DTSTART:20211030T120000
DTSTAMP:20211030T070153Z
SUMMARY:The University of Tennessee vs La Tech
DESCRIPTION:
CREATED:20211030T070153Z
URL;VALUE=URI:http://holdmyticket.com/event/380005 

DTEND:20211030T170000
END:VEVENT
END:VCALENDAR