BEGIN:VCALENDAR
METHOD:PUBLISH
X-WR-TIMEZONE:America/Denver
PRODID:-//Hold My Ticket.//HMT Web App//EN
CALSCALE:GREGORIAN
METHOD:PUBLISH
X-WR-CALNAME:Moonlight Lounge
X-WR-CALDESC:Upcoming events at Moonlight Lounge
BEGIN:VTIMEZONE
TZID:America/Denver 
END:VTIMEZONE
BEGIN:VEVENT
SEQUENCE:2
TRANSP:OPAQUE
UID:513587694fd23f851156ec642294e653
DTSTART:20211127T210000
DTSTAMP:20211127T170109Z
SUMMARY:THRA * God's Dirty Needle * Pig City * Chromolith 
DESCRIPTION:
CREATED:20211127T170109Z
URL;VALUE=URI:http://holdmyticket.com/event/380283 

DTEND:20211128T000000
END:VEVENT
END:VCALENDAR