BEGIN:VCALENDAR
METHOD:PUBLISH
X-WR-TIMEZONE:America/Denver
PRODID:-//Hold My Ticket.//HMT Web App//EN
CALSCALE:GREGORIAN
METHOD:PUBLISH
X-WR-CALNAME:Moonlight Lounge
X-WR-CALDESC:Upcoming events at Moonlight Lounge
BEGIN:VTIMEZONE
TZID:America/Denver 
END:VTIMEZONE
BEGIN:VEVENT
SEQUENCE:2
TRANSP:OPAQUE
UID:daa9c5e57d7b76d0bcd07b16262fe7f1
DTSTART:20211126T210000
DTSTAMP:20211126T170151Z
SUMMARY:Unto Others * Blood Star * Lilith
DESCRIPTION:Unto Others * Blood Star * Lilith
CREATED:20211126T170151Z
URL;VALUE=URI:http://holdmyticket.com/event/380338 

DTEND:20211127T000000
END:VEVENT
END:VCALENDAR