BEGIN:VCALENDAR
METHOD:PUBLISH
X-WR-TIMEZONE:America/Denver
PRODID:-//Hold My Ticket.//HMT Web App//EN
CALSCALE:GREGORIAN
METHOD:PUBLISH
X-WR-CALNAME:The Oriental Theater
X-WR-CALDESC:Upcoming events at The Oriental Theater
BEGIN:VTIMEZONE
TZID:America/Denver 
END:VTIMEZONE
BEGIN:VEVENT
SEQUENCE:2
TRANSP:OPAQUE
UID:8575fe6d3b00628a74687fef671d5da6
DTSTART:20211111T183000
DTSTAMP:20211111T150111Z
SUMMARY:Mountain Revelations
DESCRIPTION:
CREATED:20211111T150111Z
URL;VALUE=URI:http://holdmyticket.com/event/380693 

DTEND:20211111T230000
END:VEVENT
END:VCALENDAR