BEGIN:VCALENDAR
METHOD:PUBLISH
X-WR-TIMEZONE:America/Denver
PRODID:-//Hold My Ticket.//HMT Web App//EN
CALSCALE:GREGORIAN
METHOD:PUBLISH
X-WR-CALNAME:Sunshine Theater
X-WR-CALDESC:Upcoming events at Sunshine Theater
BEGIN:VTIMEZONE
TZID:America/Denver 
END:VTIMEZONE
BEGIN:VEVENT
SEQUENCE:2
TRANSP:OPAQUE
UID:8d214cde0acfbd7cbdd78b94cdbf6202
DTSTART:20211204T180000
DTSTAMP:20211204T140121Z
SUMMARY:Red Light Cameras * Def-i * Reviva * Sun Dog * Burque Sol * Hooks &amp; the Huckleberries
DESCRIPTION:
CREATED:20211204T140121Z
URL;VALUE=URI:http://holdmyticket.com/event/380747 

DTEND:20211204T233000
END:VEVENT
END:VCALENDAR