BEGIN:VCALENDAR
METHOD:PUBLISH
X-WR-TIMEZONE:America/Los_Angeles
PRODID:-//Hold My Ticket.//HMT Web App//EN
CALSCALE:GREGORIAN
METHOD:PUBLISH
X-WR-CALNAME:Winstons
X-WR-CALDESC:Upcoming events at Winstons
BEGIN:VTIMEZONE
TZID:America/Los_Angeles 
END:VTIMEZONE
BEGIN:VEVENT
SEQUENCE:2
TRANSP:OPAQUE
UID:3d0244c6593afaf6db950b8fe286c955
DTSTART:20210924T213000
DTSTAMP:20210924T200830Z
SUMMARY:SM Familia
DESCRIPTION:
CREATED:20210924T200830Z
URL;VALUE=URI:http://holdmyticket.com/event/380779 

DTEND:20210925T003000
END:VEVENT
END:VCALENDAR