BEGIN:VCALENDAR
METHOD:PUBLISH
X-WR-TIMEZONE:America/Denver
PRODID:-//Hold My Ticket.//HMT Web App//EN
CALSCALE:GREGORIAN
METHOD:PUBLISH
X-WR-CALNAME:The Oriental Theater
X-WR-CALDESC:Upcoming events at The Oriental Theater
BEGIN:VTIMEZONE
TZID:America/Denver 
END:VTIMEZONE
BEGIN:VEVENT
SEQUENCE:2
TRANSP:OPAQUE
UID:8412e764dce5b5886fb1d2e2e7ee7461
DTSTART:20210930T193000
DTSTAMP:20210930T150153Z
SUMMARY:Quality Ski Time Film Tour
DESCRIPTION:
CREATED:20210930T150153Z
URL;VALUE=URI:http://holdmyticket.com/event/380782 

DTEND:20210930T220000
END:VEVENT
END:VCALENDAR