BEGIN:VCALENDAR
METHOD:PUBLISH
X-WR-TIMEZONE:America/Denver
PRODID:-//Hold My Ticket.//HMT Web App//EN
CALSCALE:GREGORIAN
METHOD:PUBLISH
X-WR-CALNAME:Moonlight Lounge
X-WR-CALDESC:Upcoming events at Moonlight Lounge
BEGIN:VTIMEZONE
TZID:America/Denver 
END:VTIMEZONE
BEGIN:VEVENT
SEQUENCE:2
TRANSP:OPAQUE
UID:dabe1781df93923677e0806e47f97b4c
DTSTART:20211202T210000
DTSTAMP:20211202T170108Z
SUMMARY:Stone Riot * Lu'omo Nero * The Backsliders
DESCRIPTION:
CREATED:20211202T170108Z
URL;VALUE=URI:http://holdmyticket.com/event/381193 

DTEND:20211203T000000
END:VEVENT
END:VCALENDAR