BEGIN:VCALENDAR
METHOD:PUBLISH
X-WR-TIMEZONE:America/Denver
PRODID:-//Hold My Ticket.//HMT Web App//EN
CALSCALE:GREGORIAN
METHOD:PUBLISH
X-WR-CALNAME:Moonlight Lounge
X-WR-CALDESC:Upcoming events at Moonlight Lounge
BEGIN:VTIMEZONE
TZID:America/Denver 
END:VTIMEZONE
BEGIN:VEVENT
SEQUENCE:2
TRANSP:OPAQUE
UID:876b6e24c78350525131c5edc565ec82
DTSTART:20211211T210000
DTSTAMP:20211211T170126Z
SUMMARY:Brent Loveday and the Dirty Dollars * Gilead Rises * The Sacred 20's
DESCRIPTION:
CREATED:20211211T170126Z
URL;VALUE=URI:http://holdmyticket.com/event/381330 

DTEND:20211212T000000
END:VEVENT
END:VCALENDAR