BEGIN:VCALENDAR
METHOD:PUBLISH
X-WR-TIMEZONE:America/New_York
PRODID:-//Hold My Ticket.//HMT Web App//EN
CALSCALE:GREGORIAN
METHOD:PUBLISH
X-WR-CALNAME:Terra Fermata
X-WR-CALDESC:Upcoming events at Terra Fermata
BEGIN:VTIMEZONE
TZID:America/New_York 
END:VTIMEZONE
BEGIN:VEVENT
SEQUENCE:2
TRANSP:OPAQUE
UID:acda6229d58c1c6800a35f2e36bed91f
DTSTART:20211218T190000
DTSTAMP:20211218T150148Z
SUMMARY:THE ORIGINAL WAILERS w/ Sierra Lane Music
DESCRIPTION:Deuterman Productions Presents: The Original Wailers feat. Al Anderson

Support: Sierra Lane Music

In 1974 when Bob Marley went solo, on the brink of international stardom, he surprised the music community by choosing as American born lead guitarist, Al Anderson. It was Anderson's stunning lead work on such classics as No Woman, No Cry, &amp; Three O'clock Road Block, that first alerted rock fans to the Wailer's music. Andersons' musical achievements with Bob Marley &amp; The Wailers include the platinum award winning albums, 'Live at the Lyceum', 'Babylon by Bus' and ten times platinum album 'Legend'. The Orignal Wailers received their own Grammy nomination in 2013 for their album 'Miracle' making it Andersons' second Grammy Nomination. Al Anderson is the sole member of the Bob Marley &amp; The Wailers mid - 1970's lineup in the Original Wailers. The Original Wailers also include Chet Samuel (Lead Vocals / Guitar), Omar Lopez (Bass Guitar), Paapa Nyarkoh (Drums), and Ras Klamper (Keyboards and Organ) who continue the legacy of Bob Marley &amp; The Wailers' music.

Use the share tools on this event page to let your friends know where you will be. Please Print PDF ticket for entry into event or your phone email can work as well. No Refund Event. Rain or Shine Event.

CREATED:20211218T150148Z
URL;VALUE=URI:http://holdmyticket.com/event/381421 

DTEND:20211218T220000
END:VEVENT
END:VCALENDAR