BEGIN:VCALENDAR
METHOD:PUBLISH
X-WR-TIMEZONE:America/Denver
PRODID:-//Hold My Ticket.//HMT Web App//EN
CALSCALE:GREGORIAN
METHOD:PUBLISH
X-WR-CALNAME:Buffalo Rose
X-WR-CALDESC:Upcoming events at Buffalo Rose
BEGIN:VTIMEZONE
TZID:America/Denver 
END:VTIMEZONE
BEGIN:VEVENT
SEQUENCE:2
TRANSP:OPAQUE
UID:f4bf8c1c416b6c0cfac45a7221b59de0
DTSTART:20220128T200000
DTSTAMP:20220128T160102Z
SUMMARY:Rush Archives
DESCRIPTION:
CREATED:20220128T160102Z
URL;VALUE=URI:http://holdmyticket.com/event/381545 

DTEND:20220128T230000
END:VEVENT
END:VCALENDAR