BEGIN:VCALENDAR
METHOD:PUBLISH
X-WR-TIMEZONE:America/Chicago
PRODID:-//Hold My Ticket.//HMT Web App//EN
CALSCALE:GREGORIAN
METHOD:PUBLISH
X-WR-CALNAME:Luckenbach Texas
X-WR-CALDESC:Upcoming events at Luckenbach Texas
BEGIN:VTIMEZONE
TZID:America/Chicago 
END:VTIMEZONE
BEGIN:VEVENT
SEQUENCE:2
TRANSP:OPAQUE
UID:1f96804224fd3c196959b6674cad0c53
DTSTART:20220319T110000
DTSTAMP:20220319T060145Z
SUMMARY:11th Annual Mud Dauber Festival &amp; Chili Cook-Off
DESCRIPTION:
CREATED:20220319T060145Z
URL;VALUE=URI:http://holdmyticket.com/event/381579 

DTEND:20220319T173000
END:VEVENT
END:VCALENDAR