BEGIN:VCALENDAR
METHOD:PUBLISH
X-WR-TIMEZONE:America/Denver
PRODID:-//Hold My Ticket.//HMT Web App//EN
CALSCALE:GREGORIAN
METHOD:PUBLISH
X-WR-CALNAME:The Oriental Theater
X-WR-CALDESC:Upcoming events at The Oriental Theater
BEGIN:VTIMEZONE
TZID:America/Denver 
END:VTIMEZONE
BEGIN:VEVENT
SEQUENCE:2
TRANSP:OPAQUE
UID:81dd3e51147e7f275691633a19edec05
DTSTART:20211104T200000
DTSTAMP:20211104T150141Z
SUMMARY:Mortified: 5 Year Anniversary Show!
DESCRIPTION:
CREATED:20211104T150141Z
URL;VALUE=URI:http://holdmyticket.com/event/382022 

DTEND:20211104T213000
END:VEVENT
END:VCALENDAR