BEGIN:VCALENDAR
METHOD:PUBLISH
X-WR-TIMEZONE:America/Denver
PRODID:-//Hold My Ticket.//HMT Web App//EN
CALSCALE:GREGORIAN
METHOD:PUBLISH
X-WR-CALNAME:Sunshine Theater
X-WR-CALDESC:Upcoming events at Sunshine Theater
BEGIN:VTIMEZONE
TZID:America/Denver 
END:VTIMEZONE
BEGIN:VEVENT
SEQUENCE:2
TRANSP:OPAQUE
UID:688cf297f9105211213ebf6f072d9150
DTSTART:20220411T200000
DTSTAMP:20220411T150151Z
SUMMARY:Wallows  - SOLD OUT!
DESCRIPTION:Wallows, the Los Angeles-based trio of Dylan Minnette, Braeden Lemasters and Cole Preston, return in 2021 with the brand new single "I Don't Want to Talk," a first taste of their collaboration with producer Ariel Rechtshaid (Vampire Weekend, Haim, Adele) that's been in the works over the past year. 
CREATED:20220411T150151Z
URL;VALUE=URI:http://holdmyticket.com/event/382113 

DTEND:20220411T220000
END:VEVENT
END:VCALENDAR