BEGIN:VCALENDAR
METHOD:PUBLISH
X-WR-TIMEZONE:America/Denver
PRODID:-//Hold My Ticket.//HMT Web App//EN
CALSCALE:GREGORIAN
METHOD:PUBLISH
X-WR-CALNAME:Moonlight Lounge
X-WR-CALDESC:Upcoming events at Moonlight Lounge
BEGIN:VTIMEZONE
TZID:America/Denver 
END:VTIMEZONE
BEGIN:VEVENT
SEQUENCE:2
TRANSP:OPAQUE
UID:a50f70079f15fe4e6767b90c1b360c94
DTSTART:20211117T210000
DTSTAMP:20211117T170127Z
SUMMARY:Dark Time Sunshine * Torbjørn * Upgrade * Rafael Vigilantics * Dom Baron * Macchiato Music
DESCRIPTION:
CREATED:20211117T170127Z
URL;VALUE=URI:http://holdmyticket.com/event/382176 

DTEND:20211118T000000
END:VEVENT
END:VCALENDAR