BEGIN:VCALENDAR
METHOD:PUBLISH
X-WR-TIMEZONE:America/Denver
PRODID:-//Hold My Ticket.//HMT Web App//EN
CALSCALE:GREGORIAN
METHOD:PUBLISH
X-WR-CALNAME:Tractor Brewing- Wells Park
X-WR-CALDESC:Upcoming events at Tractor Brewing- Wells Park
BEGIN:VTIMEZONE
TZID:America/Denver 
END:VTIMEZONE
BEGIN:VEVENT
SEQUENCE:2
TRANSP:OPAQUE
UID:c880290afcb006982fcc4f2aa29e2b0c
DTSTART:20211023T180000
DTSTAMP:20211023T154840Z
SUMMARY:Stranger Things 4 - Drag Queen Bingo &amp; Carnival
DESCRIPTION:It's back! In celebration of Halloween and the hit Netflix show Stranger Things. Tractor Brewing, Spectral Youth &amp; Blackout Theatre Company have teamed up to bring you yet another evening of the Strangest Things in Albuquerque!
It's been too long and we're bringing you some new things for the 4th iteration of Abq's biggest Halloween event!
Start off by dancing to tunes brought to you by Midnight Stew at 6:30pm ,THEN, get yourself a bingo card, dabber, and one's and play some Draq Queen Bingo host by the gorgeous and lovely Renné Toya Bouvier. Check out spooky local vendors including the killer Spectral Youth, selling all night long. Hungry? Munch down on one of our two delicious food trucks!
At 9pm move back to the outdoor stage and jam out to All Thicc!
Then close out the night boogying to Illegal Aliens at 10pm!
All this for just $8 (advance tickets) $10 day of. 100% of all ticket sales will go back to Black Out Theater! 21 plus only, no exceptions.
CREATED:20211023T154840Z
URL;VALUE=URI:http://holdmyticket.com/event/382426 

DTEND:20211023T230000
END:VEVENT
END:VCALENDAR