BEGIN:VCALENDAR
METHOD:PUBLISH
X-WR-TIMEZONE:America/Denver
PRODID:-//Hold My Ticket.//HMT Web App//EN
CALSCALE:GREGORIAN
METHOD:PUBLISH
X-WR-CALNAME:National Hispanic Cultural Center - Bank of America Theatre
X-WR-CALDESC:Upcoming events at National Hispanic Cultural Center - Bank of America Theatre
BEGIN:VTIMEZONE
TZID:America/Denver 
END:VTIMEZONE
BEGIN:VEVENT
SEQUENCE:2
TRANSP:OPAQUE
UID:14518c7150ee20ef613d4cd080b8d8e5
DTSTART:20211118T193000
DTSTAMP:20211118T160152Z
SUMMARY:Nacha Mendez Trio
DESCRIPTION:Nacha Mendez tours regionally with her band, playing her original, eclectic pan-Latin-style songs. She also paints and sculpts and exhibits her work in Santa Fe.
CREATED:20211118T160152Z
URL;VALUE=URI:http://holdmyticket.com/event/382478 

DTEND:20211118T220000
END:VEVENT
END:VCALENDAR