BEGIN:VCALENDAR
METHOD:PUBLISH
X-WR-TIMEZONE:America/Denver
PRODID:-//Hold My Ticket.//HMT Web App//EN
CALSCALE:GREGORIAN
METHOD:PUBLISH
X-WR-CALNAME:Launchpad
X-WR-CALDESC:Upcoming events at Launchpad
BEGIN:VTIMEZONE
TZID:America/Denver 
END:VTIMEZONE
BEGIN:VEVENT
SEQUENCE:2
TRANSP:OPAQUE
UID:8729be12e9d47426ad94c6e6b0769b01
DTSTART:20220131T200000
DTSTAMP:20220131T160127Z
SUMMARY:Hinder
DESCRIPTION:
CREATED:20220131T160127Z
URL;VALUE=URI:http://holdmyticket.com/event/382535 

DTEND:20220131T230000
END:VEVENT
END:VCALENDAR