BEGIN:VCALENDAR
METHOD:PUBLISH
X-WR-TIMEZONE:America/Denver
PRODID:-//Hold My Ticket.//HMT Web App//EN
CALSCALE:GREGORIAN
METHOD:PUBLISH
X-WR-CALNAME:Launchpad
X-WR-CALDESC:Upcoming events at Launchpad
BEGIN:VTIMEZONE
TZID:America/Denver 
END:VTIMEZONE
BEGIN:VEVENT
SEQUENCE:2
TRANSP:OPAQUE
UID:82abbcb7bbfb148c5330f7f0fcdff1f8
DTSTART:20220225T203000
DTSTAMP:20220226T004152Z
SUMMARY:Cherry Bombs  
DESCRIPTION:* Cherry Bombs  * Them Evils * 
CREATED:20220226T004152Z
URL;VALUE=URI:http://holdmyticket.com/event/382616 

DTEND:20220226T003000
END:VEVENT
END:VCALENDAR