BEGIN:VCALENDAR
METHOD:PUBLISH
X-WR-TIMEZONE:America/Chicago
PRODID:-//Hold My Ticket.//HMT Web App//EN
CALSCALE:GREGORIAN
METHOD:PUBLISH
X-WR-CALNAME:Luckenbach Texas
X-WR-CALDESC:Upcoming events at Luckenbach Texas
BEGIN:VTIMEZONE
TZID:America/Chicago 
END:VTIMEZONE
BEGIN:VEVENT
SEQUENCE:2
TRANSP:OPAQUE
UID:d296e1cdbca6d3bbfd04e417161db4a5
DTSTART:20220528T110000
DTSTAMP:20220528T084849Z
SUMMARY:7th Annual Luckenbach Food Truck Festival 
DESCRIPTION:
CREATED:20220528T084849Z
URL;VALUE=URI:http://holdmyticket.com/event/382651 

DTEND:20220528T200000
END:VEVENT
END:VCALENDAR