BEGIN:VCALENDAR
METHOD:PUBLISH
X-WR-TIMEZONE:America/Denver
PRODID:-//Hold My Ticket.//HMT Web App//EN
CALSCALE:GREGORIAN
METHOD:PUBLISH
X-WR-CALNAME:The Oriental Theater
X-WR-CALDESC:Upcoming events at The Oriental Theater
BEGIN:VTIMEZONE
TZID:America/Denver 
END:VTIMEZONE
BEGIN:VEVENT
SEQUENCE:2
TRANSP:OPAQUE
UID:527906f8059e8dc536c778ab859c018f
DTSTART:20220308T200000
DTSTAMP:20220308T160113Z
SUMMARY:Omnium Gatherum
DESCRIPTION:
CREATED:20220308T160113Z
URL;VALUE=URI:http://holdmyticket.com/event/383413 

DTEND:20220308T230000
END:VEVENT
END:VCALENDAR