BEGIN:VCALENDAR
METHOD:PUBLISH
X-WR-TIMEZONE:America/Denver
PRODID:-//Hold My Ticket.//HMT Web App//EN
CALSCALE:GREGORIAN
METHOD:PUBLISH
X-WR-CALNAME:The Oriental Theater
X-WR-CALDESC:Upcoming events at The Oriental Theater
BEGIN:VTIMEZONE
TZID:America/Denver 
END:VTIMEZONE
BEGIN:VEVENT
SEQUENCE:2
TRANSP:OPAQUE
UID:bf8165f46f47b8f5ab7b4ed8a2b86a4e
DTSTART:20220320T193000
DTSTAMP:20220320T150144Z
SUMMARY:Dragonforce
DESCRIPTION:
CREATED:20220320T150144Z
URL;VALUE=URI:http://holdmyticket.com/event/383420 

DTEND:20220320T230000
END:VEVENT
END:VCALENDAR